BEGIN:VCALENDAR
VERSION:2.0
PRODID:-//BC Home Educators&#039; Association - ECPv6.15.16.1//NONSGML v1.0//EN
CALSCALE:GREGORIAN
METHOD:PUBLISH
X-WR-CALNAME:BC Home Educators&#039; Association
X-ORIGINAL-URL:https://bchea.ca
X-WR-CALDESC:Events for BC Home Educators&#039; Association
REFRESH-INTERVAL;VALUE=DURATION:PT1H
X-Robots-Tag:noindex
X-PUBLISHED-TTL:PT1H
BEGIN:VTIMEZONE
TZID:America/Vancouver
BEGIN:DAYLIGHT
TZOFFSETFROM:-0800
TZOFFSETTO:-0700
TZNAME:PDT
DTSTART:20250309T100000
END:DAYLIGHT
BEGIN:STANDARD
TZOFFSETFROM:-0700
TZOFFSETTO:-0800
TZNAME:PST
DTSTART:20251102T090000
END:STANDARD
BEGIN:DAYLIGHT
TZOFFSETFROM:-0800
TZOFFSETTO:-0700
TZNAME:PDT
DTSTART:20260308T100000
END:DAYLIGHT
BEGIN:STANDARD
TZOFFSETFROM:-0700
TZOFFSETTO:-0800
TZNAME:PST
DTSTART:20261101T090000
END:STANDARD
BEGIN:DAYLIGHT
TZOFFSETFROM:-0800
TZOFFSETTO:-0700
TZNAME:PDT
DTSTART:20270314T100000
END:DAYLIGHT
BEGIN:STANDARD
TZOFFSETFROM:-0700
TZOFFSETTO:-0800
TZNAME:PST
DTSTART:20271107T090000
END:STANDARD
END:VTIMEZONE
BEGIN:VEVENT
DTSTART;TZID=America/Vancouver:20260211T193000
DTEND;TZID=America/Vancouver:20260211T210000
DTSTAMP:20260425T204419
CREATED:20260129T193554Z
LAST-MODIFIED:20260129T232536Z
UID:2717-1770838200-1770843600@bchea.ca
SUMMARY:February Tea Time - Hang Out and Chat
DESCRIPTION:You are invited to join us for a casual chat from the comfort of your own home. Grab a cup of your favourite drink and settle in for good conversation with other home learners. \nCan’t make it? Consider joining the BCHEA facebook or instagram pages to keep up with upcoming events and important information. Or better yet\, become a member of the BCHEA. \nBCHEA on Instagram BCHEA on Facebook \nMeeting ID: 812 7153 7425\nPasscode: 2026
URL:https://bchea.ca/event/feb-tea-time/
LOCATION:Zoom
CATEGORIES:Tea Time
ATTACH;FMTTYPE=image/png:https://bchea.ca/wp-content/uploads/February-Tea-Time-Events-Calendar-Graphic.png
END:VEVENT
END:VCALENDAR