BEGIN:VCALENDAR
VERSION:2.0
PRODID:-//BC Home Educators&#039; Association - ECPv6.15.16.1//NONSGML v1.0//EN
CALSCALE:GREGORIAN
METHOD:PUBLISH
X-WR-CALNAME:BC Home Educators&#039; Association
X-ORIGINAL-URL:https://bchea.ca
X-WR-CALDESC:Events for BC Home Educators&#039; Association
REFRESH-INTERVAL;VALUE=DURATION:PT1H
X-Robots-Tag:noindex
X-PUBLISHED-TTL:PT1H
BEGIN:VTIMEZONE
TZID:America/Vancouver
BEGIN:DAYLIGHT
TZOFFSETFROM:-0800
TZOFFSETTO:-0700
TZNAME:PDT
DTSTART:20250309T100000
END:DAYLIGHT
BEGIN:STANDARD
TZOFFSETFROM:-0700
TZOFFSETTO:-0800
TZNAME:PST
DTSTART:20251102T090000
END:STANDARD
BEGIN:DAYLIGHT
TZOFFSETFROM:-0800
TZOFFSETTO:-0700
TZNAME:PDT
DTSTART:20260308T100000
END:DAYLIGHT
BEGIN:STANDARD
TZOFFSETFROM:-0700
TZOFFSETTO:-0800
TZNAME:PST
DTSTART:20261101T090000
END:STANDARD
BEGIN:DAYLIGHT
TZOFFSETFROM:-0800
TZOFFSETTO:-0700
TZNAME:PDT
DTSTART:20270314T100000
END:DAYLIGHT
BEGIN:STANDARD
TZOFFSETFROM:-0700
TZOFFSETTO:-0800
TZNAME:PST
DTSTART:20271107T090000
END:STANDARD
END:VTIMEZONE
BEGIN:VEVENT
DTSTART;TZID=America/Vancouver:20260422T193000
DTEND;TZID=America/Vancouver:20260422T210000
DTSTAMP:20260425T085726
CREATED:20260417T221000Z
LAST-MODIFIED:20260418T000753Z
UID:3878-1776886200-1776891600@bchea.ca
SUMMARY:April Tea Time - Homeschool Philosophies
DESCRIPTION:Join us for a Tea Time conversation about Homeschool Philosophies.\n\n\n\nApril 22nd\, we will explore the different approaches families use and what they look like in real life. Have you tried structured approaches like classical and Charlotte Mason or more flexible styles like unschooling and eclectic homeschooling? Do you feel pulled in different directions? What worked and what didn’t? What advice do you have?\n\n \n\n\n\nCome and share your thoughts or just listen with a cup of tea. ☕ \n\n\nCan’t make it? Consider joining the BCHEA facebook or instagram pages to keep up with upcoming events and important information. Or better yet\, become a member of the BCHEA. \n\n\n\n\nBCHEA on Instagram BCHEA on Facebook \nhttps://us06web.zoom.us/j/82245596759Passcode: 2026
URL:https://bchea.ca/event/april-tea-time-homeschool-philosophies/
LOCATION:Zoom
CATEGORIES:Tea Time
ATTACH;FMTTYPE=image/png:https://bchea.ca/wp-content/uploads/Philosophies-Apr22.png
END:VEVENT
BEGIN:VEVENT
DTSTART;TZID=America/Vancouver:20260319T193000
DTEND;TZID=America/Vancouver:20260319T210000
DTSTAMP:20260425T085726
CREATED:20260129T213950Z
LAST-MODIFIED:20260129T213950Z
UID:2739-1773948600-1773954000@bchea.ca
SUMMARY:March Tea Time - Planning for Fall
DESCRIPTION:Join us at our monthly Tea Time gathering. This month’s theme is Planning for Fall. Conventions are around the corner and this seems to be the time of year when home learning families start getting organised for the new year ahead. \nOur virtual gatherings are a casual way to chat with other home learners about various curriculum options\, lessons plans\, or different styles of learning in the home. We welcome all to join us\, but keep in mind that our focus is on Homeschoolers\, not online learning schooling.
URL:https://bchea.ca/event/march-tea-time-planning-for-fall/
LOCATION:Zoom
CATEGORIES:Tea Time
ATTACH;FMTTYPE=image/png:https://bchea.ca/wp-content/uploads/March-Tea-Time-Events-Calendar-Graphic.png
END:VEVENT
BEGIN:VEVENT
DTSTART;TZID=America/Vancouver:20260211T193000
DTEND;TZID=America/Vancouver:20260211T210000
DTSTAMP:20260425T085726
CREATED:20260129T193554Z
LAST-MODIFIED:20260129T232536Z
UID:2717-1770838200-1770843600@bchea.ca
SUMMARY:February Tea Time - Hang Out and Chat
DESCRIPTION:You are invited to join us for a casual chat from the comfort of your own home. Grab a cup of your favourite drink and settle in for good conversation with other home learners. \nCan’t make it? Consider joining the BCHEA facebook or instagram pages to keep up with upcoming events and important information. Or better yet\, become a member of the BCHEA. \nBCHEA on Instagram BCHEA on Facebook \nMeeting ID: 812 7153 7425\nPasscode: 2026
URL:https://bchea.ca/event/feb-tea-time/
LOCATION:Zoom
CATEGORIES:Tea Time
ATTACH;FMTTYPE=image/png:https://bchea.ca/wp-content/uploads/February-Tea-Time-Events-Calendar-Graphic.png
END:VEVENT
END:VCALENDAR