BEGIN:VCALENDAR
VERSION:2.0
PRODID:-//BC Home Educators&#039; Association - ECPv6.15.16.1//NONSGML v1.0//EN
CALSCALE:GREGORIAN
METHOD:PUBLISH
X-WR-CALNAME:BC Home Educators&#039; Association
X-ORIGINAL-URL:https://bchea.ca
X-WR-CALDESC:Events for BC Home Educators&#039; Association
REFRESH-INTERVAL;VALUE=DURATION:PT1H
X-Robots-Tag:noindex
X-PUBLISHED-TTL:PT1H
BEGIN:VTIMEZONE
TZID:America/Vancouver
BEGIN:DAYLIGHT
TZOFFSETFROM:-0800
TZOFFSETTO:-0700
TZNAME:PDT
DTSTART:20250309T100000
END:DAYLIGHT
BEGIN:STANDARD
TZOFFSETFROM:-0700
TZOFFSETTO:-0800
TZNAME:PST
DTSTART:20251102T090000
END:STANDARD
BEGIN:DAYLIGHT
TZOFFSETFROM:-0800
TZOFFSETTO:-0700
TZNAME:PDT
DTSTART:20260308T100000
END:DAYLIGHT
BEGIN:STANDARD
TZOFFSETFROM:-0700
TZOFFSETTO:-0800
TZNAME:PST
DTSTART:20261101T090000
END:STANDARD
BEGIN:DAYLIGHT
TZOFFSETFROM:-0800
TZOFFSETTO:-0700
TZNAME:PDT
DTSTART:20270314T100000
END:DAYLIGHT
BEGIN:STANDARD
TZOFFSETFROM:-0700
TZOFFSETTO:-0800
TZNAME:PST
DTSTART:20271107T090000
END:STANDARD
END:VTIMEZONE
BEGIN:VEVENT
DTSTART;VALUE=DATE:20260515
DTEND;VALUE=DATE:20260517
DTSTAMP:20260424T053819
CREATED:20260129T224243Z
LAST-MODIFIED:20260129T225126Z
UID:2741-1778803200-1778975999@bchea.ca
SUMMARY:BC Home Education Conference
DESCRIPTION:The BC Home Educators’ Association has been invited\, as a secular homeschool advocacy group\, to participate in the Christian BC Home Education Conference in May. We will be there to connect with families and share information about homeschooling in British Columbia. We look forward to answering your questions about homeschooling rights\, government requirements\, the difference between homeschooling and BCs Online Learning schools\, and more. \n\nABOUT THE CONFERENCE: \nFoundations for Flourishing \nThe BC Home Education Conference is a Christian\, community-focused event designed to equip\, encourage\, and connect parents who are on the home learning journey. Over two days\, you’ll experience: \n\nInspiring keynote speakers\nPractical breakout sessions\nInteractive panel discussions\nTime to connect and network\n\nThe annual conference aims to foster community\, inspire interpersonal connections\, and provide exceptional resources for home learning families. \nMore conference Information
URL:https://bchea.ca/event/bc-home-education-conference/
LOCATION:Christian Life Assembly Church\, 21277 56 Ave\, Langley City\, BC\, V2Y 1M3
CATEGORIES:Convention
ATTACH;FMTTYPE=image/png:https://bchea.ca/wp-content/uploads/BCHEC-small.png
ORGANIZER;CN="BC Home Education Conference":MAILTO:info@bchec.ca
END:VEVENT
END:VCALENDAR